BEGIN:VCALENDAR
VERSION:2.0
PRODID:-//Global Purchasing Solutions LLC - ECPv6.15.20//NONSGML v1.0//EN
CALSCALE:GREGORIAN
METHOD:PUBLISH
X-ORIGINAL-URL:https://globalpurchasingsolutionsllc.com
X-WR-CALDESC:Events for Global Purchasing Solutions LLC
REFRESH-INTERVAL;VALUE=DURATION:PT1H
X-Robots-Tag:noindex
X-PUBLISHED-TTL:PT1H
BEGIN:VTIMEZONE
TZID:UTC
BEGIN:STANDARD
TZOFFSETFROM:+0000
TZOFFSETTO:+0000
TZNAME:UTC
DTSTART:20240101T000000
END:STANDARD
END:VTIMEZONE
BEGIN:VEVENT
DTSTART;VALUE=DATE:20251124
DTEND;VALUE=DATE:20251126
DTSTAMP:20260423T174554
CREATED:20250926T124220Z
LAST-MODIFIED:20250926T124220Z
UID:16831-1763942400-1764115199@globalpurchasingsolutionsllc.com
SUMMARY:DUBAI PRECIOUS METALS CONFERENCE
DESCRIPTION:Now in its twelfth edition\, the Dubai Precious Metals Conference (DPMC) returns as a leading global platform for strategic dialogue and market insight. \nSurging prices\, trade tensions and a wave of digital disruption are redrawing the map of precious metals trade. From asset tokenisation to the rapid integration of AI across value chains\, the transformation underway is both structural and swift. \n\n\n\n\nUnder the 2025 theme\, “The Future of Precious Metals: Tariffs\, Tokenisation and Trade Flows\,” this year’s conference will bring together global industry leaders\, policymakers\, financiers and technologists to explore where the sector is heading – where geopolitics and tariffs intersect with new mining partnerships\, the shifting roles of bullion banks and trading companies\, and Dubai’s continued rise as a major global hub for precious metals\, supported by record gold trade and a growing eastward shift in market influence. \nDPMC 2025 is where the global precious metals community – and the markets it drives – comes together to exchange insight\, address industry challenges and shape what’s next for gold\, silver and beyond.
URL:https://globalpurchasingsolutionsllc.com/event/dubai-precious-metals-conference/
LOCATION:Atlantis The Palm\, Dubai\, UAE\, Atlantis The Palm\, Dubai\, UAE\, United Arab Emirates
CATEGORIES:Conference
END:VEVENT
END:VCALENDAR